BEGIN:VCALENDAR
PRODID://ligaasperger7.org.ar/reuniones-y-eventos/
VERSION:2.0
BEGIN:VEVENT
UID:2026-04-18-online@ligaasperger.org.ar
SUMMARY:Charla online: Sumando herramientas de comunicación en el Asperger
DTSTAMP:20260416T184725Z
DTSTART:20260418T210000Z
DTEND:20260418T230000Z
URL:https://ligaasperger7.org.ar/eventos/2026-04-18-reunion-online
ORGANIZER;CN=Liga Asperger 7:MAILTO:mailto:info@ligaasperger7.org
LOCATION:Online via Google Meet
STATUS:CONFIRMED
DESCRIPTION:Sumando herramientas de comunicación en el Asperger
END:VEVENT
END:VCALENDAR
